BEGIN:VCALENDAR
VERSION:2.0
PRODID:icalendar-ruby
CALSCALE:GREGORIAN
METHOD:PUBLISH
BEGIN:VTIMEZONE
TZID:Australia/Sydney
BEGIN:DAYLIGHT
DTSTART:20261004T030000
TZOFFSETFROM:+1000
TZOFFSETTO:+1100
RRULE:FREQ=YEARLY;BYDAY=1SU;BYMONTH=10
TZNAME:AEDT
END:DAYLIGHT
BEGIN:STANDARD
DTSTART:20260405T020000
TZOFFSETFROM:+1100
TZOFFSETTO:+1000
RRULE:FREQ=YEARLY;BYDAY=1SU;BYMONTH=4
TZNAME:AEST
END:STANDARD
END:VTIMEZONE
BEGIN:VEVENT
DTSTAMP:20260424T171418Z
UID:inspection_3007555
DTSTART;TZID=Australia/Sydney:20260425T150000
DTEND;TZID=Australia/Sydney:20260425T153000
CLASS:PUBLIC
CREATED:20260421T140730
DESCRIPTION: 
LAST-MODIFIED:20260421T140730
LOCATION:48 Malvina Street\, RYDE NSW 2112\, Australia
SUMMARY:48 Malvina Street\,  Inspection
URL;VALUE=URI:http://grea.com.au
END:VEVENT
END:VCALENDAR
